BEGIN:VCALENDAR
VERSION:2.0
PRODID:-//WIIT - ECPv6.12.0.1//NONSGML v1.0//EN
CALSCALE:GREGORIAN
METHOD:PUBLISH
X-WR-CALNAME:WIIT
X-ORIGINAL-URL:https://wiit.org.np
X-WR-CALDESC:Events for WIIT
REFRESH-INTERVAL;VALUE=DURATION:PT1H
X-Robots-Tag:noindex
X-PUBLISHED-TTL:PT1H
BEGIN:VTIMEZONE
TZID:Asia/Kathmandu
BEGIN:STANDARD
TZOFFSETFROM:+0545
TZOFFSETTO:+0545
TZNAME:+0545
DTSTART:20230101T000000
END:STANDARD
END:VTIMEZONE
BEGIN:VEVENT
DTSTART;VALUE=DATE:20230915
DTEND;VALUE=DATE:20230916
DTSTAMP:20260421T185030
CREATED:20250415T164401Z
LAST-MODIFIED:20250415T164401Z
UID:363-1694736000-1694822399@wiit.org.np
SUMMARY:Workshop / Contest on Robotics for School Children
DESCRIPTION:WIIT held “Workshop / Contest on Robotics” for School Children in Mahendra Bhawan Higher Secondary Boarding School\, Naxal. Training was held with support of Mahendra Bhwan School\, Ex students of Batch 32 of Mahendra Bhawan School\, and Robotics Association Nepal (RAN). Experts from Robotics Association Nepal (RAN) were present to teach the students importance of robotics today\, how robotics can be made. \nGirls and boys students of class 7 and 8 were present. There were 30 participant students.  Students were given tools for making robots\, and they were kept in a group of 5 to 6 students both boys and girls\, and they were so excited\, and learned well\, and within two days\, they were able to make moving car. WIIT team and the organizing team\, and school were excited watching the  progress shown by the students.
URL:https://wiit.org.np/event/workshop-contest-on-robotics-for-school-children/
LOCATION:Mahendra Bhawan Higher Secondary Boarding School\, Naxal\, Kathmandu
CATEGORIES:Workshop
ATTACH;FMTTYPE=image/jpeg:https://wiit.org.np/wp/wp-content/uploads/2025/04/Pic.jpg
END:VEVENT
BEGIN:VEVENT
DTSTART;VALUE=DATE:20230912
DTEND;VALUE=DATE:20230913
DTSTAMP:20260421T185030
CREATED:20250415T165601Z
LAST-MODIFIED:20250415T165601Z
UID:376-1694476800-1694563199@wiit.org.np
SUMMARY:Cyber Security Hackathon for Girls students
DESCRIPTION:Rotary Club of Mount Everest Lalitpur\, association with WIIT and BugV as technical partner held Cyber Security Hackathon for Girls students of Shree Rudrayanee Secondary School\, Khokana. The event was possible with the collaboration of Rotary Club of Mount Everest Lalitpur\, BugV and Kumari Bank.  BugV team held the hackathon. The program was initiated with the help of President of Rotary Club of Mount Everest\, Lalitpur Ms. Pratima Pradhan. Chairperson of WIIT Ms. Gunakeshari Pradhan presented the importance of ICT today\, and why we need to know about Cyber security and WIIT Executive Member Ms.  Roja Kiran Basukala entertained the students with a Quiz contest on Cyber Security. Girls were so interested and there was active participation of girls in this Hackathon. Winner of the Hachathon were awarded.
URL:https://wiit.org.np/event/cyber-security-hackathon-for-girls-students/
LOCATION:Shree Rudrayanee Secondary School\, Khokana\, Lalitpur
CATEGORIES:Hackathon
ATTACH;FMTTYPE=image/jpeg:https://wiit.org.np/wp/wp-content/uploads/2025/04/Hackathon.jpg
END:VEVENT
BEGIN:VEVENT
DTSTART;VALUE=DATE:20230912
DTEND;VALUE=DATE:20230913
DTSTAMP:20260421T185030
CREATED:20250415T165327Z
LAST-MODIFIED:20250415T165327Z
UID:372-1694476800-1694563199@wiit.org.np
SUMMARY:Digital skills for life
DESCRIPTION:WIIT team held a workshop on ‘Digital skills for life’ for students  Lokhit Adharbhut School\, Thamel.  Need of Digital skills for life & importance of Tech Knowledge  was discussed with the students. WIIT Chairperson Ms. Gunakeshari Manandhar was present for motivating the students and Member Ms. Chrisha Shrestha shared the knowledge on importance of Science and Technology. The program helped the students to learn the importance of technology for  their future.  About 40 students particiapated the workshop.
URL:https://wiit.org.np/event/digital-skills-for-life/
LOCATION:Lokhit Adharbhut School\, Thamel\, Kathmandu
ATTACH;FMTTYPE=image/jpeg:https://wiit.org.np/wp/wp-content/uploads/2025/04/Digital-e1744735998413.jpg
END:VEVENT
BEGIN:VEVENT
DTSTART;VALUE=DATE:20230901
DTEND;VALUE=DATE:20230902
DTSTAMP:20260421T185030
CREATED:20250415T164843Z
LAST-MODIFIED:20250415T165038Z
UID:369-1693526400-1693612799@wiit.org.np
SUMMARY:Career Connect 2023
DESCRIPTION:Organized by CSIT\, and WIIT was as a community partner. The program was focused mainly for  10+2 graduates and bachelor’s students looking for career opportunities\, and there were students from different colleges universities.  It was knowledge sharing\, ideas sharing from industry professionals to help them choose their career path. Ms.  Bandana Sharma from WIIT shared her knowledge ICT as a career. The program carried many more activities.
URL:https://wiit.org.np/event/career-connect-2023/
CATEGORIES:Talk Program
ATTACH;FMTTYPE=image/jpeg:https://wiit.org.np/wp/wp-content/uploads/2025/04/Career.jpg
END:VEVENT
BEGIN:VEVENT
DTSTART;VALUE=DATE:20230824
DTEND;VALUE=DATE:20230825
DTSTAMP:20260421T185030
CREATED:20250415T170026Z
LAST-MODIFIED:20250415T170026Z
UID:386-1692835200-1692921599@wiit.org.np
SUMMARY:Digital Payment and IT Securities
DESCRIPTION:For women of Socio-Economic Welfare Center for Energetic Women (EWC). EWC is an non profit  organization working for giving better life for the needy women to make them independent by learning different skill to earn their living. 35 members of EWC participated the workshop and learned that ICT is a need for day-to-day life\,  for their small scale business\,  and for good communication. They also learned how to  be secured while using ICT. Ms. Gunakeshari Pradhan\, Chairperson of WIIT entertained the participants focusing on ‘Digital Skills for Life’\, and General Secretary of WIIT Ms. Ratna Tara Tuladhar Baidya took the session on ‘Digital Payments’ \, and Executive Member Ms. Dibyoswory Dali on ‘Securities to be maintained during using Technology’.
URL:https://wiit.org.np/event/digital-payment-and-it-securities/
LOCATION:Welfare Center for Energetic Women (EWC)\, Mhyepi Road\, Kathmandu
CATEGORIES:Workshop
ATTACH;FMTTYPE=image/jpeg:https://wiit.org.np/wp/wp-content/uploads/2025/04/EWC.jpg
END:VEVENT
BEGIN:VEVENT
DTSTART;VALUE=DATE:20230820
DTEND;VALUE=DATE:20230821
DTSTAMP:20260421T185030
CREATED:20250415T170148Z
LAST-MODIFIED:20250415T170148Z
UID:390-1692489600-1692575999@wiit.org.np
SUMMARY:Canva Training
DESCRIPTION:ICT is a continuity of learning\, there is always new technology coming ahead\, and so need to be updated. WIIT members learnt Canva\, it was online. Ms. Shova Sedhai\, one of the youngest WIIT member taught us how to use Canva\, and it was of course interesting and useful for everyone.
URL:https://wiit.org.np/event/canva-training/
CATEGORIES:Training
ATTACH;FMTTYPE=image/jpeg:https://wiit.org.np/wp/wp-content/uploads/2025/04/Canva.jpg
END:VEVENT
BEGIN:VEVENT
DTSTART;VALUE=DATE:20230810
DTEND;VALUE=DATE:20230811
DTSTAMP:20260421T185030
CREATED:20250415T165748Z
LAST-MODIFIED:20250415T165748Z
UID:381-1691625600-1691711999@wiit.org.np
SUMMARY:Digital Literacy Training for the teachers
DESCRIPTION:Digital Literacy Training for the teachers of Balmiki Adharbhut School\, a community school in Nagarkot They were 90 percent lady teachers. Some of them had little knowledge on digital payments\, but learning in detail on Digital Payment\, Digital skill for life and Cyber Security. The training was a good opportunity for them as per Principal of the school who was one of the participants. Training was held by Chairperson of WIIT Ms. Gunakeshari Pradhan\, Vice Chairperson of WIIT Ms. Sheela Kansaakar Karkee and WIIT General Secretary  Ms. Ratna Tara Tuladhar Baidya. Ms. Reeya Sthapit was present as a volunteer.
URL:https://wiit.org.np/event/digital-literacy-training-for-the-teachers/
LOCATION:Balmiki Adharbhut School\, Nagarkot
CATEGORIES:Training
ATTACH;FMTTYPE=image/jpeg:https://wiit.org.np/wp/wp-content/uploads/2025/04/Khokana.jpg
END:VEVENT
BEGIN:VEVENT
DTSTART;VALUE=DATE:20230718
DTEND;VALUE=DATE:20230719
DTSTAMP:20260421T185030
CREATED:20250415T170442Z
LAST-MODIFIED:20250415T170717Z
UID:395-1689638400-1689724799@wiit.org.np
SUMMARY:Digital Literacy Training for the senior nurses of NAN
DESCRIPTION:Three days’ workshop training was held focusing on need of Digital skill for day to day life\, Digital payment\, Security measures to be taken care of\, and Cyber Security. Participants were so  excited to learn\, and had a very active participation during the workshop. The program was held in the NAN hall\, Lazimpat. President  of NAN welcomed all the trainers and participants in the training. Sessions on Digital Skills for life was held by Chairperson of WIIT Ms. Gunakeshari Pradhan\, similarly\, others sessions were taken by WIIT Vice Chairperson Ms. Sheela Kansakar Karkee\, WIIT General Secretary Ms. Ratna Tara Tulahar Baidya\, WIIT Executive Member Ms. Palpasa Tuladhar\, WIIT Members Ms. Sovha Sedhai\, Ms. Mona Nyachhon with MonalTech team\, Ms. Chrisha Shrestha\, Ms. Kasturi Raj\, and Ms. Sampanna Shrestha\, Ms. Suman KC from Nepal Telcom and team from NamastePay.
URL:https://wiit.org.np/event/digital-literacy-training-for-the-senior-nurses-of-nan/
LOCATION:NAN hall\, Lazimpat
CATEGORIES:Training
ATTACH;FMTTYPE=image/jpeg:https://wiit.org.np/wp/wp-content/uploads/2025/04/Nan.jpg
END:VEVENT
BEGIN:VEVENT
DTSTART;VALUE=DATE:20230715
DTEND;VALUE=DATE:20230716
DTSTAMP:20260421T185030
CREATED:20250415T164207Z
LAST-MODIFIED:20250415T164207Z
UID:358-1689379200-1689465599@wiit.org.np
SUMMARY:Insights into the world of Block Chains
DESCRIPTION:WIIT with collaboration of DAV College\, organized A very new and interesting topic for the new generation “Insights into the world of Block Chains”. Program Hall\, logistics and technical support was provided by the college. Presentations from Blockchain experts from Venture 2 Inc – Mr. Prabhash Rajbhandari and Ms. Mallika Bhattarai were presented. Being a new topic\, there were many queries from the participants. Students from different colleges universities\, working young girls and boys\, WIIT members were present in the event.
URL:https://wiit.org.np/event/insights-into-the-world-of-block-chains/
LOCATION:DAV College
CATEGORIES:Workshop
ATTACH;FMTTYPE=image/jpeg:https://wiit.org.np/wp/wp-content/uploads/2025/04/DAV.jpg
END:VEVENT
BEGIN:VEVENT
DTSTART;VALUE=DATE:20230605
DTEND;VALUE=DATE:20230606
DTSTAMP:20260421T185030
CREATED:20250415T172515Z
LAST-MODIFIED:20250415T172515Z
UID:414-1685923200-1686009599@wiit.org.np
SUMMARY:Digital Skills for life & AI basics with face recognition
DESCRIPTION:WIIT Team successfully completed Presentation & Interaction Program on ” Digital Skills for life & AI basics with face recognition” which was held for the girls’ students of two different schools in Boudha – Kumari English Boarding School\, Boudha & Mahendra Boudha Madhyamik Vidyalaya\, Boudha 20+ students from each school Participated the program. The presentation focused on the importance of ICT and AI for their day-to-day life today. Students actively participated in the sessions. The presentation was given by WIIT member Ms. Samikshya Singh. Chairperson of WIIT\, Ms. Gunakeshari Pradhan was present to deliver her thanks to schools and students for giving WIIT an opportunity for this sessions.
URL:https://wiit.org.np/event/digital-skills-for-life-ai-basics-with-face-recognition/
LOCATION:Boudha\, Kumari English Boarding School\, Boudha & Mahendra Boudha Madhyamik Vidyalaya
CATEGORIES:Talk Program,Training
ATTACH;FMTTYPE=image/jpeg:https://wiit.org.np/wp/wp-content/uploads/2025/04/Boudha-e1744737882986.jpg
END:VEVENT
BEGIN:VEVENT
DTSTART;VALUE=DATE:20230530
DTEND;VALUE=DATE:20230531
DTSTAMP:20260421T185030
CREATED:20250415T175043Z
LAST-MODIFIED:20250415T175043Z
UID:423-1685404800-1685491199@wiit.org.np
SUMMARY:Conference on ‘Young women leading the way:  Showcasing Innovative ICT projects & research in Nepal’
DESCRIPTION:Mitra Kunj and Russian House of Kathmandu jointly organized a Conference on ‘Young women leading the way:  Showcasing Innovative ICT projects & research in Nepal’. WIIT and CSIT Association Nepal was associated partner of the program. \n140+ participants (college students\, young women\, Mitrakunj members\, ICT industry & Institutions) were present in the conference. Panel discussion was also a part of the conference and Ms. Dibyoswory Dali\, Executive Member of WIIT\, was in the panelist.
URL:https://wiit.org.np/event/conference-on-young-women-leading-the-way-showcasing-innovative-ict-projects-research-in-nepal/
LOCATION:Kathmandu
CATEGORIES:Conference
ATTACH;FMTTYPE=image/jpeg:https://wiit.org.np/wp/wp-content/uploads/2025/04/mitra-e1744738201294.jpg
END:VEVENT
BEGIN:VEVENT
DTSTART;VALUE=DATE:20230507
DTEND;VALUE=DATE:20230508
DTSTAMP:20260421T185030
CREATED:20250415T172719Z
LAST-MODIFIED:20250415T180231Z
UID:418-1683417600-1683503999@wiit.org.np
SUMMARY:Choosing ICT as a Career Choice
DESCRIPTION:A workshop on “Choosing ICT as a Career Choice” & “Cyber security” was carried on successfully for the students at Mount View English Boarding School\, Balkot. This talk program for the girls’ students helped them to learn why ICT can be their future\, and that ICT is important for any field they choose in future. Chairperson of WIIT Ms. Gunakeshari Pradhan presented on ‘Why ICT Profession’ and Vice Chairperson of WIIT. Ms. Sheela Kansaakar Karkee and WIIT member Ms. Dibya Tara Shakya shared knowledge on How choosing ICT as a career can be beneficial and motivate the students with their valuable words.
URL:https://wiit.org.np/event/choosing-ict-as-a-career-choice/
LOCATION:Bhaktapur
CATEGORIES:Workshop
ATTACH;FMTTYPE=image/jpeg:https://wiit.org.np/wp/wp-content/uploads/2025/04/Balkot.jpg
END:VEVENT
BEGIN:VEVENT
DTSTART;VALUE=DATE:20230427
DTEND;VALUE=DATE:20230428
DTSTAMP:20260421T185030
CREATED:20250415T175240Z
LAST-MODIFIED:20250416T144531Z
UID:434-1682553600-1682639999@wiit.org.np
SUMMARY:International Girls in ICT Day 2023
DESCRIPTION:Celebrating the International Girls in ICT Day 2023\, WIIT managed to held Webinar on ‘Digital Skills for Life’ with slogan ‘प्रबिधि र किशोरी: समय संगै अघि सरि’ for girls’ students at different schools. 40+ schools & 800+ students participated in this webinar. The event was run with co-organizers Miss-Tech (Robotics Association of Nepal)\, Smart Cheli\, and technical support from NREN. Main aim of the event was to inspire and empower girls to pursue careers in technology and provide knowledge on necessary skills for success. \nThe webinar featured young women role models who have excelled in the field of technology. These speakers shared insights and practical tips to help young women pursue careers in tech. Additionally\, some informative videos were shown to highlight the importance of digital skills in achieving career goals.
URL:https://wiit.org.np/event/international-girls-in-ict-day-2023/
ATTACH;FMTTYPE=image/jpeg:https://wiit.org.np/wp/wp-content/uploads/2025/04/ICTDay.jpg
END:VEVENT
BEGIN:VEVENT
DTSTART;VALUE=DATE:20230308
DTEND;VALUE=DATE:20230309
DTSTAMP:20260421T185030
CREATED:20250415T175602Z
LAST-MODIFIED:20250415T175602Z
UID:442-1678233600-1678319999@wiit.org.np
SUMMARY:Success Stories of 101 Women in ICT
DESCRIPTION:On the occasion of 113th International Women’s Day 2023\, WIIT had an opportunity to honor 101 women working in ICT field. A publication “Success Stories of Women in ICT’ was released\, and honoring program was organized to identify them. The event was graced by the esteemed presence of Minister for Communication and Information Technology Honorable Rekha Sharma as a chief guest of the event. Ms. Sumana Shrestha\, the then member of parliament from Rastriya Swatantra Party was the keynote speaker in the event. \nA conference on “Digital Innovation and Technology for Gender Equality” was also organized\, and the event was held at Hotel Hyatt Place\, Kathmandu. A good number of participation of women from different sector attended the event. \nElisha Rajbhandari\, former Programme Coordinator at Asia Pacific Telecommunity\,  gave a presentation on the global initiatives on promoting gender equality in ICT. Ms. Minu Pradhan\, former director of the Wireless Services Directorate of Nepal Telecom\, presented a paper on 5G technology and its potential impact on the development of a truly smart society with gender equality. \nThe program was held in collaboration with Nepal Telecom\, Nepal Bank Limited\, and Living with ICT as technical partner.
URL:https://wiit.org.np/event/success-stories-of-101-women-in-ict/
LOCATION:The Hyatt Place\, Kathmandu
ATTACH;FMTTYPE=image/jpeg:https://wiit.org.np/wp/wp-content/uploads/2025/04/101.jpg
END:VEVENT
BEGIN:VEVENT
DTSTART;VALUE=DATE:20230215
DTEND;VALUE=DATE:20230216
DTSTAMP:20260421T185030
CREATED:20250415T175732Z
LAST-MODIFIED:20250415T175732Z
UID:446-1676419200-1676505599@wiit.org.np
SUMMARY:Workshop on Digital Payment and IT Securities
DESCRIPTION:Women in Information Technology (WIIT) held one day workshop at World Trade Center\, Tripuresor for the legendary women of Innerwheel Club of Rajdhani\, in collaboration of Inner wheel Club of Rajdhani. Participants were mostly retired women from different respectable sectors like doctors\, bankers\, women in health sectors\, beauticians\, army\, lecturers\, businesswomen\, house makers\, etc. And there were young working women too. Sessions were presented by WIIT Executive members Ms. Ratna Tara Tuladhar Baidya\, Ms. Dibyswory Dali\, Ms. Palpasa Tuladhar and WIIT Member Ms. Shova Sedhai. Vice Chairperson of WIIT Ms. Sheela Kansakar Karkee was present in the event. Chairperson of the WIIT Ms. Gunakeshari Pradhan welcomed everyone\, and thank you note to the participants was delivered by the Chairperson of Innerwheel Club of Rajdhani.
URL:https://wiit.org.np/event/workshop-on-digital-payment-and-it-securities/
ATTACH;FMTTYPE=image/jpeg:https://wiit.org.np/wp/wp-content/uploads/2025/04/pic-1.jpg
END:VEVENT
END:VCALENDAR